BEGIN:VCALENDAR
VERSION:2.0
PRODID:-//eventon.com NONSGML v1.0//EN
BEGIN:VEVENT
UID:69e5f9ffc00cb
DTSTAMP:20260420T120343
DTSTART:20260608T060000Z
DTEND:20260608T010000Z
TZID:Pacific/Midway
LOCATION:
SUMMARY:MINA LONGO - AVILÉS - HOMENAJE A ROCIO DÚRCAL
DESCRIPTION:   &nbsp;
URL:https://www.santogrialproducciones.com/events/mina-longo-aviles-homenaje-a-rocio-durcal/
END:VEVENT
END:VCALENDAR