BEGIN:VCALENDAR
VERSION:2.0
PRODID:-//eventon.com NONSGML v1.0//EN
BEGIN:VEVENT
UID:69eb2b558acb5
DTSTAMP:20260424T103533
DTSTART:20260207T070000Z
DTEND:20260207T010000Z
TZID:Pacific/Midway
LOCATION:
SUMMARY:MINA LONGO - GIJÓN - HOMENAJE A ROCIO DÚRCAL
DESCRIPTION: 
URL:https://www.santogrialproducciones.com/events/mina-longo-gijon-homenaje-a-rocio-durcal/
END:VEVENT
END:VCALENDAR