BEGIN:VCALENDAR
VERSION:2.0
PRODID:-//eventon.com NONSGML v1.0//EN
BEGIN:VEVENT
UID:69e5fa23b1b57
DTSTAMP:20260420T120419
DTSTART:20260125T070000Z
DTEND:20260125T010000Z
TZID:Pacific/Midway
LOCATION:
SUMMARY:Medina Azahara. Todo tiene su fin\,  gira de despedida - GIJÓN
DESCRIPTION: 
URL:https://www.santogrialproducciones.com/events/medina-azahara-todo-tiene-su-fin-gira-de-despedida-gijon/
END:VEVENT
END:VCALENDAR