BEGIN:VCALENDAR
VERSION:2.0
PRODID:-//eventon.com NONSGML v1.0//EN
BEGIN:VEVENT
UID:69e60f8eea5d8
DTSTAMP:20260420T133542
DTSTART:20251102T060000Z
DTEND:20251102T010000Z
TZID:Pacific/Midway
LOCATION:
SUMMARY:CONCIERTO DERRAME ROCK KIDS - ESPECIAL HALLOWEEN
DESCRIPTION: 
URL:https://www.santogrialproducciones.com/events/concierto-derrame-rock-kids-especial-halloween/
END:VEVENT
END:VCALENDAR