BEGIN:VCALENDAR
VERSION:2.0
PRODID:-//eventon.com NONSGML v1.0//EN
BEGIN:VEVENT
UID:69e622c886443
DTSTAMP:20260420T145744
DTSTART:20251019T230000Z
DTEND:20251020T010000Z
TZID:Pacific/Midway
LOCATION:
SUMMARY:NANDO AGÜEROS - OVIEDO
DESCRIPTION: 
URL:https://www.santogrialproducciones.com/events/nando-agueros-oviedo/
END:VEVENT
END:VCALENDAR