BEGIN:VCALENDAR
VERSION:2.0
PRODID:-//eventon.com NONSGML v1.0//EN
BEGIN:VEVENT
UID:69e889d74f29d
DTSTAMP:20260422T104159
DTSTART:20250615T070000Z
DTEND:20250615T100000Z
TZID:Pacific/Midway
LOCATION:
SUMMARY:NANDO AGÜEROS - NAVIA
DESCRIPTION: 
URL:https://www.santogrialproducciones.com/events/nando-agueros-navia/
END:VEVENT
END:VCALENDAR