BEGIN:VCALENDAR
VERSION:2.0
PRODID:-//eventon.com NONSGML v1.0//EN
BEGIN:VEVENT
UID:69e60fc62a09d
DTSTAMP:20260420T133638
DTSTART:20250531T070000Z
DTEND:20250531T100000Z
TZID:Pacific/Midway
LOCATION:
SUMMARY:NANDO AGÜEROS - MIERES
DESCRIPTION: 
URL:https://www.santogrialproducciones.com/events/nando-agueros-mieres/
END:VEVENT
END:VCALENDAR