BEGIN:VCALENDAR
VERSION:2.0
PRODID:-//eventon.com NONSGML v1.0//EN
BEGIN:VEVENT
UID:69e62a74ba5d3
DTSTAMP:20260420T153028
DTSTART:20250809T070000Z
DTEND:20250809T100000Z
TZID:Pacific/Midway
LOCATION:
SUMMARY:LUANCO AL MAR 2025
DESCRIPTION: 
URL:https://www.santogrialproducciones.com/events/luanco-al-mar-2025/
END:VEVENT
END:VCALENDAR