BEGIN:VCALENDAR
VERSION:2.0
PRODID:-//eventon.com NONSGML v1.0//EN
BEGIN:VEVENT
UID:69e60f9e14e82
DTSTAMP:20260420T133558
DTSTART:20250607T070000Z
DTEND:20250607T100000Z
TZID:Pacific/Midway
LOCATION:
SUMMARY:MINA LONGO- AMOR ETERNO\,  TRIBUTO A ROCIO DURCAL
DESCRIPTION: TEATRO FILARMÓNICA (OVIEDO)
URL:https://www.santogrialproducciones.com/events/mina-longo-amor-eterno-tributo-a-rocio-durcal-2/
END:VEVENT
END:VCALENDAR