BEGIN:VCALENDAR
VERSION:2.0
PRODID:-//eventon.com NONSGML v1.0//EN
BEGIN:VEVENT
UID:69e63826a97e0
DTSTAMP:20260420T162854
DTSTART:20250513T070000Z
DTEND:20250513T100000Z
TZID:Pacific/Midway
LOCATION:
SUMMARY:MINA LONGO- AMOR ETERNO\,  TRIBUTO A ROCIO DURCAL
DESCRIPTION: TEATRO LA LATINA (MADRID)
URL:https://www.santogrialproducciones.com/events/mina-longo-amor-eterno-tributo-a-rocio-durcal/
END:VEVENT
END:VCALENDAR