BEGIN:VCALENDAR
VERSION:2.0
PRODID:-//eventon.com NONSGML v1.0//EN
BEGIN:VEVENT
UID:69e60f2f9fe10
DTSTAMP:20260420T133407
DTSTART:20250216T070000Z
DTEND:20250216T100000Z
TZID:Pacific/Midway
LOCATION:
SUMMARY:NANDO AGÜEROS POLA DE SIERO
DESCRIPTION: 
URL:https://www.santogrialproducciones.com/events/nando-agueros-pola-de-siero/
END:VEVENT
END:VCALENDAR