BEGIN:VCALENDAR
VERSION:2.0
PRODID:-//eventon.com NONSGML v1.0//EN
BEGIN:VEVENT
UID:69e60f990c3db
DTSTAMP:20260420T133553
DTSTART:20250614T110000Z
DTEND:20250615T105900Z
TZID:Pacific/Midway
LOCATION:
SUMMARY:JUAN VALDERRAMA- SOLE GIMENEZ
DESCRIPTION: JUAN VALDERRAMA- SOLE GIMENEZ
URL:https://www.santogrialproducciones.com/events/juan-valderrama-sole-gimenez/
END:VEVENT
END:VCALENDAR