BEGIN:VCALENDAR
VERSION:2.0
PRODID:-//eventon.com NONSGML v1.0//EN
BEGIN:VEVENT
UID:69e622d784df0
DTSTAMP:20260420T145759
DTSTART:20250202T070000Z
DTEND:20250202T100000Z
TZID:Pacific/Midway
LOCATION:
SUMMARY:NANDO AGÜEROS LANGREO
DESCRIPTION: NANDO AGÜEROS LANGREO
URL:https://www.santogrialproducciones.com/events/nando-agueros-langreo/
END:VEVENT
END:VCALENDAR