BEGIN:VCALENDAR
VERSION:2.0
PRODID:-//eventon.com NONSGML v1.0//EN
BEGIN:VEVENT
UID:69e622dc886a2
DTSTAMP:20260420T145804
DTSTART:20250510T070000Z
DTEND:20250510T090000Z
TZID:Pacific/Midway
LOCATION:
SUMMARY:NANDO AGÜEROS - VALLADOLID
DESCRIPTION: NANDO AGÜEROS - VALLADOLID
URL:https://www.santogrialproducciones.com/events/nando-agueros-valladolid/
END:VEVENT
END:VCALENDAR