BEGIN:VCALENDAR
VERSION:2.0
PRODID:-//eventon.com NONSGML v1.0//EN
BEGIN:VEVENT
UID:69e8897f3e3fb
DTSTAMP:20260422T104031
DTSTART:20250427T070000Z
DTEND:20250427T100000Z
TZID:Pacific/Midway
LOCATION:
SUMMARY:NANDO AGÜEROS - PALENCIA
DESCRIPTION: NANDO AGÜEROS - PALENCIA
URL:https://www.santogrialproducciones.com/events/nando-agueros-palencia/
END:VEVENT
END:VCALENDAR