BEGIN:VCALENDAR
VERSION:2.0
PRODID:-//eventon.com NONSGML v1.0//EN
BEGIN:VEVENT
UID:69e5fa43b5e7f
DTSTAMP:20260420T120451
DTSTART:20250209T070000Z
DTEND:20250209T100000Z
TZID:Pacific/Midway
LOCATION:
SUMMARY:NANDO AGÜEROS SAN VICENTE DE LA BARQUERA
DESCRIPTION: NANDO AGÜEROS SAN VICENTE DE LA BARQUERA
URL:https://www.santogrialproducciones.com/events/nando-agueros-san-vicente-de-la-barquera/
END:VEVENT
END:VCALENDAR