BEGIN:VCALENDAR
VERSION:2.0
PRODID:-//eventon.com NONSGML v1.0//EN
BEGIN:VEVENT
UID:69e5fa9a38000
DTSTAMP:20260420T120618
DTSTART:20250201T070000Z
DTEND:20250201T100000Z
TZID:Pacific/Midway
LOCATION:
SUMMARY:NANDO AGÜEROS REINOSA - TEATRO PRINCIPAL
DESCRIPTION: NANDO AGÜEROS REINOSA - TEATRO PRINCIPAL
URL:https://www.santogrialproducciones.com/events/nando-agueros-reinosa-teatro-principal/
END:VEVENT
END:VCALENDAR