BEGIN:VCALENDAR
VERSION:2.0
PRODID:-//eventon.com NONSGML v1.0//EN
BEGIN:VEVENT
UID:69e5fa3eb7d75
DTSTAMP:20260420T120446
DTSTART:20250511T080000Z
DTEND:20250511T100000Z
TZID:Pacific/Midway
LOCATION:
SUMMARY:NANDO AGÜEROS - MADRID
DESCRIPTION: NANDO AGÜEROS - MADRID
URL:https://www.santogrialproducciones.com/events/nando-agueros-madrid-galileo-galilei/
END:VEVENT
END:VCALENDAR