BEGIN:VCALENDAR
VERSION:2.0
PRODID:-//eventon.com NONSGML v1.0//EN
BEGIN:VEVENT
UID:69e624c62b781
DTSTAMP:20260420T150614
DTSTART:20240918T080000Z
DTEND:20240918T100000Z
TZID:Pacific/Midway
LOCATION:
SUMMARY:RAPHAEL
DESCRIPTION: RAPHAEL
URL:https://www.santogrialproducciones.com/events/raphael-3/
END:VEVENT
END:VCALENDAR