BEGIN:VCALENDAR
VERSION:2.0
PRODID:-//eventon.com NONSGML v1.0//EN
BEGIN:VEVENT
UID:69e637e39182e
DTSTAMP:20260420T162747
DTSTART:20240917T190000Z
DTEND:20240916T220000Z
TZID:Europe/Madrid
LOCATION:
SUMMARY:RAPHAEL
DESCRIPTION: RAPHAEL
URL:https://www.santogrialproducciones.com/events/raphael-2/
END:VEVENT
END:VCALENDAR