BEGIN:VCALENDAR
VERSION:2.0
PRODID:-//eventon.com NONSGML v1.0//EN
BEGIN:VEVENT
UID:69e63826c98a2
DTSTAMP:20260420T162854
DTSTART:20241020T230000Z
DTEND:20241021T100000Z
TZID:Pacific/Midway
LOCATION:
SUMMARY:NANDO AGÜEROS MADRID - VERMOUTH
DESCRIPTION: NANDO AGÜEROS MADRID - VERMOUTH
URL:https://www.santogrialproducciones.com/events/nando-agueros-madrid-vermouth/
END:VEVENT
END:VCALENDAR