BEGIN:VCALENDAR
VERSION:2.0
PRODID:-//eventon.com NONSGML v1.0//EN
BEGIN:VEVENT
UID:69e5fa352fe2e
DTSTAMP:20260420T120437
DTSTART:20241020T070000Z
DTEND:20241020T100000Z
TZID:Pacific/Midway
LOCATION:
SUMMARY:VICTOR MANUEL OVIEDO
DESCRIPTION: VICTOR MANUEL OVIEDO
URL:https://www.santogrialproducciones.com/events/victor-manuel-oviedo-2/
END:VEVENT
END:VCALENDAR