BEGIN:VCALENDAR
VERSION:2.0
PRODID:-//eventon.com NONSGML v1.0//EN
BEGIN:VEVENT
UID:69e638d9d9201
DTSTAMP:20260420T163153
DTSTART:20240808T070000Z
DTEND:20240813T110000Z
TZID:Pacific/Midway
LOCATION:
SUMMARY:FESTIVAL LUANCO AL MAR
DESCRIPTION: FESTIVAL LUANCO AL MAR
URL:https://www.santogrialproducciones.com/events/festival-luanco-al-mar/
END:VEVENT
END:VCALENDAR