BEGIN:VCALENDAR
VERSION:2.0
PRODID:-//eventon.com NONSGML v1.0//EN
BEGIN:VEVENT
UID:69e60f8a05e94
DTSTAMP:20260420T133538
DTSTART:20240814T070000Z
DTEND:20240813T110000Z
TZID:Pacific/Midway
LOCATION:
SUMMARY:CANTAJUEGO
DESCRIPTION: CANTAJUEGO
URL:https://www.santogrialproducciones.com/events/cantajuego/
END:VEVENT
END:VCALENDAR