BEGIN:VCALENDAR
VERSION:2.0
PRODID:-//eventon.com NONSGML v1.0//EN
BEGIN:VEVENT
UID:69e637ff7dca2
DTSTAMP:20260420T162815
DTSTART:20240811T080000Z
DTEND:20240810T110000Z
TZID:Pacific/Midway
LOCATION:
SUMMARY:LUZ CASAL
DESCRIPTION: LUZ CASAL
URL:https://www.santogrialproducciones.com/events/luz-casal/
END:VEVENT
END:VCALENDAR