BEGIN:VCALENDAR
VERSION:2.0
PRODID:-//eventon.com NONSGML v1.0//EN
BEGIN:VEVENT
UID:69e623090009d
DTSTAMP:20260420T145849
DTSTART:20240810T070000Z
DTEND:20240809T110000Z
TZID:Pacific/Midway
LOCATION:
SUMMARY:VALPARAISO FEST
DESCRIPTION: VALPARAISO FEST
URL:https://www.santogrialproducciones.com/events/valparaiso-fest/
END:VEVENT
END:VCALENDAR