BEGIN:VCALENDAR
VERSION:2.0
PRODID:-//eventon.com NONSGML v1.0//EN
BEGIN:VEVENT
UID:69e5fa2b6eaa9
DTSTAMP:20260420T120427
DTSTART:20240809T080000Z
DTEND:20240808T110000Z
TZID:Pacific/Midway
LOCATION:
SUMMARY:JORGE BLASS
DESCRIPTION: JORGE BLASS
URL:https://www.santogrialproducciones.com/events/jorge-blass/
END:VEVENT
END:VCALENDAR