BEGIN:VCALENDAR
VERSION:2.0
PRODID:-//eventon.com NONSGML v1.0//EN
BEGIN:VEVENT
UID:69e778cac79f7
DTSTAMP:20260421T151658
DTSTART:20230816T080000Z
DTEND:20230815T110000Z
TZID:Pacific/Midway
LOCATION:
SUMMARY:LUANCO AL MAR (LOS SECRETOS)
DESCRIPTION: LUANCO AL MAR (LOS SECRETOS)
URL:https://www.santogrialproducciones.com/events/luanco-al-mar-los-secretos/
END:VEVENT
END:VCALENDAR