BEGIN:VCALENDAR
VERSION:2.0
PRODID:-//eventon.com NONSGML v1.0//EN
BEGIN:VEVENT
UID:69e778e71927b
DTSTAMP:20260421T151727
DTSTART:20230813T070000Z
DTEND:20230812T110000Z
TZID:Pacific/Midway
LOCATION:
SUMMARY:LUANCO AL MAR (EL CIGALA)
DESCRIPTION: LUANCO AL MAR (EL CIGALA)
URL:https://www.santogrialproducciones.com/events/luanco-al-mar-el-cigala/
END:VEVENT
END:VCALENDAR