BEGIN:VCALENDAR
VERSION:2.0
PRODID:-//eventon.com NONSGML v1.0//EN
BEGIN:VEVENT
UID:69e62a9285c1e
DTSTAMP:20260420T153058
DTSTART:20231202T070000Z
DTEND:20231201T110000Z
TZID:Pacific/Midway
LOCATION:
SUMMARY:VÍCTOR MANUEL- OVIEDO
DESCRIPTION: VÍCTOR MANUEL- OVIEDO
URL:https://www.santogrialproducciones.com/events/victor-manuel-oviedo/
END:VEVENT
END:VCALENDAR