BEGIN:VCALENDAR
VERSION:2.0
PRODID:-//eventon.com NONSGML v1.0//EN
BEGIN:VEVENT
UID:69e5fa4db58e3
DTSTAMP:20260420T120501
DTSTART:20231126T070000Z
DTEND:20231125T110000Z
TZID:Pacific/Midway
LOCATION:
SUMMARY:VÍCTOR MANUEL- VIGO
DESCRIPTION: VÍCTOR MANUEL- VIGO
URL:https://www.santogrialproducciones.com/events/victor-manuel-vigo/
END:VEVENT
END:VCALENDAR