BEGIN:VCALENDAR
VERSION:2.0
PRODID:-//eventon.com NONSGML v1.0//EN
BEGIN:VEVENT
UID:69eb28cbc0492
DTSTAMP:20260424T102443
DTSTART:20231111T070000Z
DTEND:20231111T110000Z
TZID:Pacific/Midway
LOCATION:
SUMMARY:VÍCTOR MANUEL- GIRONA
DESCRIPTION: VÍCTOR MANUEL- GIRONA
URL:https://www.santogrialproducciones.com/events/victor-manuel-girona/
END:VEVENT
END:VCALENDAR