BEGIN:VCALENDAR
VERSION:2.0
PRODID:-//eventon.com NONSGML v1.0//EN
BEGIN:VEVENT
UID:69e778c988291
DTSTAMP:20260421T151657
DTSTART:20231022T080000Z
DTEND:20231021T110000Z
TZID:Pacific/Midway
LOCATION:
SUMMARY:VÍCTOR MANUEL- MONTERREY
DESCRIPTION: VÍCTOR MANUEL- MONTERREY
URL:https://www.santogrialproducciones.com/events/victor-manuel-monterrey/
END:VEVENT
END:VCALENDAR