BEGIN:VCALENDAR
VERSION:2.0
PRODID:-//eventon.com NONSGML v1.0//EN
BEGIN:VEVENT
UID:69e7793277f21
DTSTAMP:20260421T151842
DTSTART:20231020T080000Z
DTEND:20231019T110000Z
TZID:Pacific/Midway
LOCATION:
SUMMARY:VÍCTOR MANUEL- GUADALAJARA
DESCRIPTION: VÍCTOR MANUEL- GUADALAJARA
URL:https://www.santogrialproducciones.com/events/victor-manuel-guadalajara/
END:VEVENT
END:VCALENDAR