BEGIN:VCALENDAR
VERSION:2.0
PRODID:-//eventon.com NONSGML v1.0//EN
BEGIN:VEVENT
UID:69e8897ddbf56
DTSTAMP:20260422T104029
DTSTART:20231016T080000Z
DTEND:20231015T110000Z
TZID:Pacific/Midway
LOCATION:
SUMMARY:VÍCTOR MANUEL- CDMX
DESCRIPTION: VÍCTOR MANUEL- CDMX
URL:https://www.santogrialproducciones.com/events/victor-manuel-cdmx/
END:VEVENT
END:VCALENDAR