BEGIN:VCALENDAR
VERSION:2.0
PRODID:-//eventon.com NONSGML v1.0//EN
BEGIN:VEVENT
UID:69e622c43855d
DTSTAMP:20260420T145740
DTSTART:20231014T080000Z
DTEND:20231013T110000Z
TZID:Pacific/Midway
LOCATION:
SUMMARY:VÍCTOR MANUEL- LEÓN GTO
DESCRIPTION: VÍCTOR MANUEL- LEÓN GTO
URL:https://www.santogrialproducciones.com/events/victor-manuel-leon-gto/
END:VEVENT
END:VCALENDAR