BEGIN:VCALENDAR
VERSION:2.0
PRODID:-//eventon.com NONSGML v1.0//EN
BEGIN:VEVENT
UID:69e7792979d61
DTSTAMP:20260421T151833
DTSTART:20230923T080000Z
DTEND:20230922T110000Z
TZID:Pacific/Midway
LOCATION:
SUMMARY:VÍCTOR MANUEL- ALICANTE
DESCRIPTION: VÍCTOR MANUEL- ALICANTE
URL:https://www.santogrialproducciones.com/events/victor-manuel-alicante/
END:VEVENT
END:VCALENDAR