BEGIN:VCALENDAR
VERSION:2.0
PRODID:-//eventon.com NONSGML v1.0//EN
BEGIN:VEVENT
UID:69e64b0b4f0b5
DTSTAMP:20260420T174931
DTSTART:20230817T080000Z
DTEND:20230816T110000Z
TZID:Pacific/Midway
LOCATION:
SUMMARY:VÍCTOR MANUEL- LOS ALCÁZARES (MURCIA)
DESCRIPTION: VÍCTOR MANUEL- LOS ALCÁZARES (MURCIA)
URL:https://www.santogrialproducciones.com/events/victor-manuel-los-alcazares-murcia/
END:VEVENT
END:VCALENDAR