BEGIN:VCALENDAR
VERSION:2.0
PRODID:-//eventon.com NONSGML v1.0//EN
BEGIN:VEVENT
UID:69e5fa13cfe84
DTSTAMP:20260420T120403
DTSTART:20230814T090000Z
DTEND:20230813T110000Z
TZID:Pacific/Midway
LOCATION:
SUMMARY:VÍCTOR MANUEL- COMILLAS
DESCRIPTION: VÍCTOR MANUEL- COMILLAS
URL:https://www.santogrialproducciones.com/events/victor-manuel-comillas/
END:VEVENT
END:VCALENDAR