BEGIN:VCALENDAR
VERSION:2.0
PRODID:-//eventon.com NONSGML v1.0//EN
BEGIN:VEVENT
UID:69e7792957f4a
DTSTAMP:20260421T151833
DTSTART:20230810T090000Z
DTEND:20230809T110000Z
TZID:Pacific/Midway
LOCATION:
SUMMARY:VÍCTOR MANUEL- PINEDA DEL MAR
DESCRIPTION: VÍCTOR MANUEL- PINEDA DEL MAR
URL:https://www.santogrialproducciones.com/events/victor-manuel-pineda-del-mar/
END:VEVENT
END:VCALENDAR