BEGIN:VCALENDAR
VERSION:2.0
PRODID:-//eventon.com NONSGML v1.0//EN
BEGIN:VEVENT
UID:69e60fb71a4ef
DTSTAMP:20260420T133623
DTSTART:20230716T080000Z
DTEND:20230715T110000Z
TZID:Pacific/Midway
LOCATION:
SUMMARY:VÍCTOR MANUEL- FESTIVAL DE LA LAVANDA (BRIHUEGA)
DESCRIPTION: VÍCTOR MANUEL- FESTIVAL DE LA LAVANDA (BRIHUEGA)
URL:https://www.santogrialproducciones.com/events/victor-manuel-festival-de-la-lavanda-brihuega/
END:VEVENT
END:VCALENDAR