BEGIN:VCALENDAR
VERSION:2.0
PRODID:-//eventon.com NONSGML v1.0//EN
BEGIN:VEVENT
UID:69e6664792164
DTSTAMP:20260420T194543
DTSTART:20230812T070000Z
DTEND:20230811T110000Z
TZID:Pacific/Midway
LOCATION:
SUMMARY:LUANCO AL MAR (VALPARAISO FESTIVAL)
DESCRIPTION: LUANCO AL MAR (VALPARAISO FESTIVAL)
URL:https://www.santogrialproducciones.com/events/luanco-al-mar-valparaiso-festival/
END:VEVENT
END:VCALENDAR