BEGIN:VCALENDAR
VERSION:2.0
PRODID:-//eventon.com NONSGML v1.0//EN
BEGIN:VEVENT
UID:69e62a0f018be
DTSTAMP:20260420T152847
DTSTART:20230814T080000Z
DTEND:20230813T110000Z
TZID:Pacific/Midway
LOCATION:
SUMMARY:LUANCO AL MAR (CAFE QUIJANO)
DESCRIPTION: LUANCO AL MAR (CAFE QUIJANO)
URL:https://www.santogrialproducciones.com/events/luanco-al-mar-cafe-quijano/
END:VEVENT
END:VCALENDAR