BEGIN:VCALENDAR
VERSION:2.0
PRODID:-//eventon.com NONSGML v1.0//EN
BEGIN:VEVENT
UID:69e64a1c4c0d3
DTSTAMP:20260420T174532
DTSTART:20230811T080000Z
DTEND:20230810T110000Z
TZID:Pacific/Midway
LOCATION:
SUMMARY:LUANCO AL MAR (GOYO JIMÉNEZ)
DESCRIPTION: LUANCO AL MAR (GOYO JIMÉNEZ)
URL:https://www.santogrialproducciones.com/events/luanco-al-mar-goyo-jimenez/
END:VEVENT
END:VCALENDAR