BEGIN:VCALENDAR
VERSION:2.0
PRODID:-//eventon.com NONSGML v1.0//EN
BEGIN:VEVENT
UID:69e6231fd0cf9
DTSTAMP:20260420T145911
DTSTART:20231216T090000Z
DTEND:20231215T110000Z
TZID:Pacific/Midway
LOCATION:
SUMMARY:VÍCTOR MANUEL- MALLORCA
DESCRIPTION: VÍCTOR MANUEL- MALLORCA
URL:https://www.santogrialproducciones.com/events/victor-manuel-mallorca/
END:VEVENT
END:VCALENDAR