BEGIN:VCALENDAR
VERSION:2.0
PRODID:-//eventon.com NONSGML v1.0//EN
BEGIN:VEVENT
UID:69e7792ae7aae
DTSTAMP:20260421T151834
DTSTART:20231008T070000Z
DTEND:20231007T110000Z
TZID:Pacific/Midway
LOCATION:
SUMMARY:VÍCTOR MANUEL- GIJÓN
DESCRIPTION: VÍCTOR MANUEL- GIJÓN
URL:https://www.santogrialproducciones.com/events/victor-manuel-gijon/
END:VEVENT
END:VCALENDAR