BEGIN:VCALENDAR
VERSION:2.0
PRODID:-//eventon.com NONSGML v1.0//EN
BEGIN:VEVENT
UID:69e5fa9036fbf
DTSTAMP:20260420T120608
DTSTART:20230924T070000Z
DTEND:20230923T110000Z
TZID:Pacific/Midway
LOCATION:
SUMMARY:VÍCTOR MANUEL- GRANADA
DESCRIPTION: VÍCTOR MANUEL- GRANADA
URL:https://www.santogrialproducciones.com/events/victor-manuel-granada/
END:VEVENT
END:VCALENDAR