BEGIN:VCALENDAR
VERSION:2.0
PRODID:-//eventon.com NONSGML v1.0//EN
BEGIN:VEVENT
UID:69e5fa3a121b9
DTSTAMP:20260420T120442
DTSTART:20230917T080000Z
DTEND:20230916T110000Z
TZID:Pacific/Midway
LOCATION:
SUMMARY:VÍCTOR MANUEL- ILLESCAS
DESCRIPTION: VÍCTOR MANUEL- ILLESCAS
URL:https://www.santogrialproducciones.com/events/victor-manuel-illescas-copy/
END:VEVENT
END:VCALENDAR