BEGIN:VCALENDAR
VERSION:2.0
PRODID:-//eventon.com NONSGML v1.0//EN
BEGIN:VEVENT
UID:69e6387c507b3
DTSTAMP:20260420T163020
DTSTART:20230714T050000Z
DTEND:20230713T110000Z
TZID:Pacific/Midway
LOCATION:
SUMMARY:VÍCTOR MANUEL- VALVIVA FESTIVAL (GIRONA)
DESCRIPTION: VÍCTOR MANUEL- VALVIVA FESTIVAL (GIRONA)
URL:https://www.santogrialproducciones.com/events/victor-manuel-valviva-festival-girona/
END:VEVENT
END:VCALENDAR