BEGIN:VCALENDAR
VERSION:2.0
PRODID:-//eventon.com NONSGML v1.0//EN
BEGIN:VEVENT
UID:69e63d86a67fb
DTSTAMP:20260420T165150
DTSTART:20230702T090000Z
DTEND:20230701T110000Z
TZID:Pacific/Midway
LOCATION:
SUMMARY:VÍCTOR MANUEL- METELLINUM FESTIVAL (BADAJOZ)
DESCRIPTION: VÍCTOR MANUEL- METELLINUM FESTIVAL (BADAJOZ)
URL:https://www.santogrialproducciones.com/events/victor-manuel-metellinum-festival-badajoz/
END:VEVENT
END:VCALENDAR